BEGIN:VCALENDAR
VERSION:2.0
PRODID:-//Library Market//iCal Export//EN
BEGIN:VEVENT
SUMMARY:Queer Comics Club
UID:32101
DTSTAMP:20260423T234100Z
DTSTART:20260512T210000Z
DTEND:20260512T214500Z
LOCATION:Chapel Hill Public Library, 100 Library Dr., Chapel Hill, NC 2751
 4, United States
ROOM: Meeting Room D
DESCRIPTION:Theme: On the StageTwelfth Grade Night by Booth, MollyUpstaged
  by Easter, RobinHockey Girl Loves Drama Boy by Hicks, Faith ErinDrama by 
 Telgemeier, RainaOr bring your own rec to share!
URL:https://www.chapelhillpubliclibrary.org/event/queer-comics-club-32101
END:VEVENT
END:VCALENDAR
