BEGIN:VCALENDAR
VERSION:2.0
PRODID:-//Library Market//iCal Export//EN
BEGIN:VEVENT
SUMMARY:Sensory-Friendly Puppet Playtime with Jeghetto
UID:28736
DTSTAMP:20260422T083500Z
DTSTART:20260516T141500Z
DTEND:20260516T151500Z
LOCATION:100 Library Dr., Chapel Hill, NC 27514, United States
ROOM: Meeting Room A
DESCRIPTION:An inclusive, one-hour puppet play experience welcoming neurod
 ivergent youth, youth with disabilities, and siblings of all ages. Enjoy s
 ensory play, creativity, and social connection in a supportive environment
 .For kids in grades K-5.
URL:https://www.chapelhillpubliclibrary.org/event/puppet-playtime-jaghetto
 -28736
END:VEVENT
END:VCALENDAR
