BEGIN:VCALENDAR
VERSION:2.0
PRODID:-//Library Market//iCal Export//EN
BEGIN:VEVENT
SUMMARY:B.Y.O.Book Club
UID:21622
DTSTAMP:20260422T111700Z
DTSTART:20260513T223000Z
DTEND:20260513T233000Z
LOCATION:100 Library Dr., Chapel Hill, NC 27514, United States
ROOM: Meeting Room A
DESCRIPTION:Join us for a special rendition of Bring Your Own Book Club! W
 e are collaborating with UNC Chapel Hill’s Asian American Center to expl
 ore and appreciate Asian American foodways through cookbooks and food memo
 irs.To participate, read and bring a cookbook or food memoir by an Asian A
 merican author of your choice. Then, join us for an evening of conversatio
 n where we discuss the topic and everyone’s picks!
URL:https://www.chapelhillpubliclibrary.org/event/byobook-club-21622
END:VEVENT
END:VCALENDAR
